BEGIN:VCALENDAR
VERSION:2.0
PRODID:-//Vivre Sans Voir - ECPv6.15.20//NONSGML v1.0//EN
CALSCALE:GREGORIAN
METHOD:PUBLISH
X-ORIGINAL-URL:https://vivresansvoir.fr
X-WR-CALDESC:Évènements pour Vivre Sans Voir
REFRESH-INTERVAL;VALUE=DURATION:PT1H
X-Robots-Tag:noindex
X-PUBLISHED-TTL:PT1H
BEGIN:VTIMEZONE
TZID:Europe/Paris
BEGIN:DAYLIGHT
TZOFFSETFROM:+0100
TZOFFSETTO:+0200
TZNAME:CEST
DTSTART:20250330T010000
END:DAYLIGHT
BEGIN:STANDARD
TZOFFSETFROM:+0200
TZOFFSETTO:+0100
TZNAME:CET
DTSTART:20251026T010000
END:STANDARD
BEGIN:DAYLIGHT
TZOFFSETFROM:+0100
TZOFFSETTO:+0200
TZNAME:CEST
DTSTART:20260329T010000
END:DAYLIGHT
BEGIN:STANDARD
TZOFFSETFROM:+0200
TZOFFSETTO:+0100
TZNAME:CET
DTSTART:20261025T010000
END:STANDARD
BEGIN:DAYLIGHT
TZOFFSETFROM:+0100
TZOFFSETTO:+0200
TZNAME:CEST
DTSTART:20270328T010000
END:DAYLIGHT
BEGIN:STANDARD
TZOFFSETFROM:+0200
TZOFFSETTO:+0100
TZNAME:CET
DTSTART:20271031T010000
END:STANDARD
END:VTIMEZONE
BEGIN:VEVENT
DTSTART;TZID=Europe/Paris:20260330T090000
DTEND;TZID=Europe/Paris:20260330T110000
DTSTAMP:20260424T050316
CREATED:20260310T065424Z
LAST-MODIFIED:20260310T065424Z
UID:1230-1774861200-1774868400@vivresansvoir.fr
SUMMARY:Sensibilisation avec l'association Différent Comme Tout le Monde les 30-31/03 et 2-3/04 de 9h à 11h et de 13h30 à 16h dans les locaux de la région (place Jules Guesde à Marseille)
DESCRIPTION:Sensibilisation avec l’association Différent Comme Tout le Monde les 30-31/03 et 2-3/04 de 9h à 11h et de 13h30 à 16h dans les locaux de la région (place Jules Guesde à Marseille)
URL:https://vivresansvoir.fr/event/sensibilisation-avec-lassociation-different-comme-tout-le-monde-les-30-31-03-et-2-3-04-de-9h-a-11h-et-de-13h30-a-16h-dans-les-locaux-de-la-region-place-jules-guesde-a-marseille/
LOCATION:Marseille – Locaux de la région (place Jules Guesdes à Marseille)
END:VEVENT
BEGIN:VEVENT
DTSTART;TZID=Europe/Paris:20260330T090000
DTEND;TZID=Europe/Paris:20260330T160000
DTSTAMP:20260424T050316
CREATED:20260204T175034Z
LAST-MODIFIED:20260204T175034Z
UID:1210-1774861200-1774886400@vivresansvoir.fr
SUMMARY:Le 30/03-31/03 et 02/04-03/04  Sensibilisations avec l'association Différent Comme Tout le Monde de 9h à 16h dans les locaux de la Région
DESCRIPTION:Le 30/03-31/03 et 02/04-03/04 Sensibilisations avec l’association Différent Comme Tout le Monde de 9h à 16h dans les locaux de la Région
URL:https://vivresansvoir.fr/event/le-30-03-31-03-et-02-04-03-04-sensibilisations-avec-lassociation-different-comme-tout-le-monde-de-9h-a-16h-dans-les-locaux-de-la-region/
LOCATION:Marseille – Locaux de la région (place Jules Guesdes à Marseille)
END:VEVENT
BEGIN:VEVENT
DTSTART;TZID=Europe/Paris:20260330T133000
DTEND;TZID=Europe/Paris:20260330T160000
DTSTAMP:20260424T050316
CREATED:20260310T065455Z
LAST-MODIFIED:20260310T065455Z
UID:1232-1774877400-1774886400@vivresansvoir.fr
SUMMARY:Sensibilisation avec l'association Différent Comme Tout le Monde les 30-31/03 et 2-3/04 de 9h à 11h et de 13h30 à 16h dans les locaux de la région (place Jules Guesde à Marseille)
DESCRIPTION:Sensibilisation avec l’association Différent Comme Tout le Monde les 30-31/03 et 2-3/04 de 9h à 11h et de 13h30 à 16h dans les locaux de la région (place Jules Guesde à Marseille)
URL:https://vivresansvoir.fr/event/sensibilisation-avec-lassociation-different-comme-tout-le-monde-les-30-31-03-et-2-3-04-de-9h-a-11h-et-de-13h30-a-16h-dans-les-locaux-de-la-region-place-jules-guesde-a-marseille-2/
LOCATION:Marseille – Locaux de la région (place Jules Guesdes à Marseille)
END:VEVENT
END:VCALENDAR