BEGIN:VCALENDAR
VERSION:2.0
PRODID:-//Vivre Sans Voir - ECPv6.15.20//NONSGML v1.0//EN
CALSCALE:GREGORIAN
METHOD:PUBLISH
X-WR-CALNAME:Vivre Sans Voir
X-ORIGINAL-URL:https://vivresansvoir.fr
X-WR-CALDESC:Évènements pour Vivre Sans Voir
REFRESH-INTERVAL;VALUE=DURATION:PT1H
X-Robots-Tag:noindex
X-PUBLISHED-TTL:PT1H
BEGIN:VTIMEZONE
TZID:Europe/Paris
BEGIN:DAYLIGHT
TZOFFSETFROM:+0100
TZOFFSETTO:+0200
TZNAME:CEST
DTSTART:20250330T010000
END:DAYLIGHT
BEGIN:STANDARD
TZOFFSETFROM:+0200
TZOFFSETTO:+0100
TZNAME:CET
DTSTART:20251026T010000
END:STANDARD
BEGIN:DAYLIGHT
TZOFFSETFROM:+0100
TZOFFSETTO:+0200
TZNAME:CEST
DTSTART:20260329T010000
END:DAYLIGHT
BEGIN:STANDARD
TZOFFSETFROM:+0200
TZOFFSETTO:+0100
TZNAME:CET
DTSTART:20261025T010000
END:STANDARD
BEGIN:DAYLIGHT
TZOFFSETFROM:+0100
TZOFFSETTO:+0200
TZNAME:CEST
DTSTART:20270328T010000
END:DAYLIGHT
BEGIN:STANDARD
TZOFFSETFROM:+0200
TZOFFSETTO:+0100
TZNAME:CET
DTSTART:20271031T010000
END:STANDARD
END:VTIMEZONE
BEGIN:VEVENT
DTSTART;TZID=Europe/Paris:20260414T140000
DTEND;TZID=Europe/Paris:20260414T160000
DTSTAMP:20260424T050317
CREATED:20260310T070104Z
LAST-MODIFIED:20260413T082201Z
UID:1252-1776175200-1776182400@vivresansvoir.fr
SUMMARY:Sensibilisation - Faculté St Charles le 14 avril de 14h à 16h : Philippe et Martine
DESCRIPTION:Sensibilisation – Faculté St Charles le 14 avril de 14h à 16h
URL:https://vivresansvoir.fr/event/sensibilisation-faculte-st-charles-le-14-avril-de-14h-a-16h/
LOCATION:Marseille – Fac St-Charles
END:VEVENT
END:VCALENDAR