BEGIN:VCALENDAR
VERSION:2.0
PRODID:-//Vivre Sans Voir - ECPv6.15.20//NONSGML v1.0//EN
CALSCALE:GREGORIAN
METHOD:PUBLISH
X-ORIGINAL-URL:https://vivresansvoir.fr
X-WR-CALDESC:Évènements pour Vivre Sans Voir
REFRESH-INTERVAL;VALUE=DURATION:PT1H
X-Robots-Tag:noindex
X-PUBLISHED-TTL:PT1H
BEGIN:VTIMEZONE
TZID:Europe/Paris
BEGIN:DAYLIGHT
TZOFFSETFROM:+0100
TZOFFSETTO:+0200
TZNAME:CEST
DTSTART:20250330T010000
END:DAYLIGHT
BEGIN:STANDARD
TZOFFSETFROM:+0200
TZOFFSETTO:+0100
TZNAME:CET
DTSTART:20251026T010000
END:STANDARD
BEGIN:DAYLIGHT
TZOFFSETFROM:+0100
TZOFFSETTO:+0200
TZNAME:CEST
DTSTART:20260329T010000
END:DAYLIGHT
BEGIN:STANDARD
TZOFFSETFROM:+0200
TZOFFSETTO:+0100
TZNAME:CET
DTSTART:20261025T010000
END:STANDARD
BEGIN:DAYLIGHT
TZOFFSETFROM:+0100
TZOFFSETTO:+0200
TZNAME:CEST
DTSTART:20270328T010000
END:DAYLIGHT
BEGIN:STANDARD
TZOFFSETFROM:+0200
TZOFFSETTO:+0100
TZNAME:CET
DTSTART:20271031T010000
END:STANDARD
END:VTIMEZONE
BEGIN:VEVENT
DTSTART;TZID=Europe/Paris:20260520T090000
DTEND;TZID=Europe/Paris:20260520T113000
DTSTAMP:20260423T163748
CREATED:20260413T082627Z
LAST-MODIFIED:20260413T082627Z
UID:1281-1779267600-1779276600@vivresansvoir.fr
SUMMARY:Mardi 19 - mercredi 20 - jeudi 21 - vendredi 22 mai à la Ciotat dans le domaine de la Tour de 9h à 11h30
DESCRIPTION:Mardi 19 – mercredi 20 – jeudi 21 – vendredi 22 mai à la Ciotat dans le domaine de la Tour de 9h à 11h30
URL:https://vivresansvoir.fr/event/mardi-19-mercredi-20-jeudi-21-vendredi-22-mai-a-la-ciotat-dans-le-domaine-de-la-tour-de-9h-a-11h30/
LOCATION:La CIotat – Domaine de la Tour
END:VEVENT
END:VCALENDAR